BEGIN:VCALENDAR
VERSION:2.0
PRODID:-//wp-events-plugin.com//6.4.8//EN
BEGIN:VEVENT
UID:2@mooneymooneyclub.com.au
DTSTART;VALUE=DATE:20251225
DTEND;VALUE=DATE:20251226
DTSTAMP:20251204T024823Z
URL:https://mooneymooneyclub.com.au/events/christmas-on-the-hawkesbury/
SUMMARY:Christmas on the Hawkesbury
DESCRIPTION:\nThis Christmas\, skip the stress of cooking and let us treat 
 you to a relaxed\, festive feast with stunning waterfront views at Mooney 
 Mooney Club. Choose Your Christmas Experience. Gather your loved ones and 
 enjoy one of two delicious dining options:\n\n\n\n\nThree-Course Christmas
  Menu | $110 per person\n\n\n\nSeafood Platter for Two | $300\n\n\n\nKids 
 Menu | $25 \n\n\n\n\n\nView Menu\n\n\n\n\nBookings essential. Call us on 9
 985 9244 to make a booking. Deposit required to secure booking.\n\n\n\n\n
ATTACH;FMTTYPE=image/jpeg:https://mooneymooneyclub.com.au/wp-content/uploa
 ds/2023/10/MMC-Christmas-1.jpg
END:VEVENT
END:VCALENDAR